BEGIN:VCALENDAR
VERSION:2.0
PRODID:-//sinoptic.ch - ECPv6.15.18//NONSGML v1.0//EN
CALSCALE:GREGORIAN
METHOD:PUBLISH
X-WR-CALNAME:sinoptic.ch
X-ORIGINAL-URL:https://www.sinoptic.ch
X-WR-CALDESC:Évènements pour sinoptic.ch
REFRESH-INTERVAL;VALUE=DURATION:PT1H
X-Robots-Tag:noindex
X-PUBLISHED-TTL:PT1H
BEGIN:VTIMEZONE
TZID:Europe/Zurich
BEGIN:DAYLIGHT
TZOFFSETFROM:+0100
TZOFFSETTO:+0200
TZNAME:CEST
DTSTART:20250330T010000
END:DAYLIGHT
BEGIN:STANDARD
TZOFFSETFROM:+0200
TZOFFSETTO:+0100
TZNAME:CET
DTSTART:20251026T010000
END:STANDARD
BEGIN:DAYLIGHT
TZOFFSETFROM:+0100
TZOFFSETTO:+0200
TZNAME:CEST
DTSTART:20260329T010000
END:DAYLIGHT
BEGIN:STANDARD
TZOFFSETFROM:+0200
TZOFFSETTO:+0100
TZNAME:CET
DTSTART:20261025T010000
END:STANDARD
BEGIN:DAYLIGHT
TZOFFSETFROM:+0100
TZOFFSETTO:+0200
TZNAME:CEST
DTSTART:20270328T010000
END:DAYLIGHT
BEGIN:STANDARD
TZOFFSETFROM:+0200
TZOFFSETTO:+0100
TZNAME:CET
DTSTART:20271031T010000
END:STANDARD
END:VTIMEZONE
BEGIN:VEVENT
DTSTART;VALUE=DATE:20260222
DTEND;VALUE=DATE:20260518
DTSTAMP:20260421T020517
CREATED:20260130T131526Z
LAST-MODIFIED:20260130T131706Z
UID:40742-1771718400-1779062399@www.sinoptic.ch
SUMMARY:Tradition & Perfektion - Papierschnitte aus China und der Schweiz
DESCRIPTION:Exposition de papier découpéLieu: Kunsthaus Interlaken\, Jungfraustrasse 55\, Interlaken
URL:https://www.sinoptic.ch/evenement/tradition-perfektion-papierschnitte-aus-china-und-der-schweiz/
CATEGORIES:Exposition
END:VEVENT
BEGIN:VEVENT
DTSTART;VALUE=DATE:20260415
DTEND;VALUE=DATE:20260422
DTSTAMP:20260421T020517
CREATED:20260130T073627Z
LAST-MODIFIED:20260130T073627Z
UID:40735-1776211200-1776815999@www.sinoptic.ch
SUMMARY:Sino-Swiss Innovation Days 2026
DESCRIPTION:Programme dans la Greater Bay Area proposé par swissnex Chine.
URL:https://www.sinoptic.ch/evenement/sino-swiss-innovation-days-2026/
CATEGORIES:Délégation
END:VEVENT
BEGIN:VEVENT
DTSTART;TZID=Europe/Zurich:20260421T181500
DTEND;TZID=Europe/Zurich:20260421T200000
DTSTAMP:20260421T020518
CREATED:20260415T221025Z
LAST-MODIFIED:20260415T221025Z
UID:41288-1776795300-1776801600@www.sinoptic.ch
SUMMARY:Vie chère et critiques de classe en Chine urbaine
DESCRIPTION:Conférence de Mme Anne-Christine TRÉMON\, École des hautes études en sciences sociales (EHESS).Lieu: salle M1170\, Uni Mail\, Genève« La critique de classe de l’ère maoïste a été remplacée par l’idéal de la «société harmonieuse» qui doit être atteint par des politiques «d’optimisation» de la population et de l’économie. Or\, ces dernières années\, la vie est devenue plus chère et les inégalités plus saillantes. Les sentiments d’empathie ou d’envie\, qu’ils soient exprimés avec ironie ou sérieux\, dans la rue ou sur les réseaux sociaux\, révèlent une conscience aiguë des inégalités. À partir de recherches en périphérie de la mégapole de Shenzhen\, symbole de réussite économique chinoise\, la conférencière examine le paradoxe suivant: la crise est propice à l’émergence d’un discours critique de classe\, mais elle engendre dans le même temps une précarité partagée. »
URL:https://www.sinoptic.ch/evenement/vie-chere-et-critiques-de-classe-en-chine-urbaine/
LOCATION:Genève
CATEGORIES:Conférence
END:VEVENT
END:VCALENDAR