BEGIN:VCALENDAR
VERSION:2.0
PRODID:-//sinoptic.ch - ECPv6.15.18//NONSGML v1.0//EN
CALSCALE:GREGORIAN
METHOD:PUBLISH
X-WR-CALNAME:sinoptic.ch
X-ORIGINAL-URL:https://www.sinoptic.ch
X-WR-CALDESC:Évènements pour sinoptic.ch
REFRESH-INTERVAL;VALUE=DURATION:PT1H
X-Robots-Tag:noindex
X-PUBLISHED-TTL:PT1H
BEGIN:VTIMEZONE
TZID:Europe/Zurich
BEGIN:DAYLIGHT
TZOFFSETFROM:+0100
TZOFFSETTO:+0200
TZNAME:CEST
DTSTART:20240331T010000
END:DAYLIGHT
BEGIN:STANDARD
TZOFFSETFROM:+0200
TZOFFSETTO:+0100
TZNAME:CET
DTSTART:20241027T010000
END:STANDARD
BEGIN:DAYLIGHT
TZOFFSETFROM:+0100
TZOFFSETTO:+0200
TZNAME:CEST
DTSTART:20250330T010000
END:DAYLIGHT
BEGIN:STANDARD
TZOFFSETFROM:+0200
TZOFFSETTO:+0100
TZNAME:CET
DTSTART:20251026T010000
END:STANDARD
BEGIN:DAYLIGHT
TZOFFSETFROM:+0100
TZOFFSETTO:+0200
TZNAME:CEST
DTSTART:20260329T010000
END:DAYLIGHT
BEGIN:STANDARD
TZOFFSETFROM:+0200
TZOFFSETTO:+0100
TZNAME:CET
DTSTART:20261025T010000
END:STANDARD
END:VTIMEZONE
BEGIN:VEVENT
DTSTART;TZID=Europe/Zurich:20250117T183000
DTEND;TZID=Europe/Zurich:20250117T210000
DTSTAMP:20260423T232716
CREATED:20250108T150936Z
LAST-MODIFIED:20250108T150936Z
UID:35467-1737138600-1737147600@www.sinoptic.ch
SUMMARY:Die Seidenstrasse auf dem Dach der Welt: der Pamir Highway
DESCRIPTION:Conférence de M. Thomas MÜLLER\, journaliste retraité
URL:https://www.sinoptic.ch/evenement/die-seidenstrasse-auf-dem-dach-der-welt-der-pamir-highway/
LOCATION:ChinaHouse Basel\, Hauptstrasse 120\,  \, Sissach
CATEGORIES:Conférence
END:VEVENT
END:VCALENDAR