BEGIN:VCALENDAR
VERSION:2.0
PRODID:-//sinoptic.ch - ECPv6.15.18//NONSGML v1.0//EN
CALSCALE:GREGORIAN
METHOD:PUBLISH
X-ORIGINAL-URL:https://www.sinoptic.ch
X-WR-CALDESC:Évènements pour sinoptic.ch
REFRESH-INTERVAL;VALUE=DURATION:PT1H
X-Robots-Tag:noindex
X-PUBLISHED-TTL:PT1H
BEGIN:VTIMEZONE
TZID:Europe/Zurich
BEGIN:DAYLIGHT
TZOFFSETFROM:+0100
TZOFFSETTO:+0200
TZNAME:CEST
DTSTART:20240331T010000
END:DAYLIGHT
BEGIN:STANDARD
TZOFFSETFROM:+0200
TZOFFSETTO:+0100
TZNAME:CET
DTSTART:20241027T010000
END:STANDARD
BEGIN:DAYLIGHT
TZOFFSETFROM:+0100
TZOFFSETTO:+0200
TZNAME:CEST
DTSTART:20250330T010000
END:DAYLIGHT
BEGIN:STANDARD
TZOFFSETFROM:+0200
TZOFFSETTO:+0100
TZNAME:CET
DTSTART:20251026T010000
END:STANDARD
BEGIN:DAYLIGHT
TZOFFSETFROM:+0100
TZOFFSETTO:+0200
TZNAME:CEST
DTSTART:20260329T010000
END:DAYLIGHT
BEGIN:STANDARD
TZOFFSETFROM:+0200
TZOFFSETTO:+0100
TZNAME:CET
DTSTART:20261025T010000
END:STANDARD
END:VTIMEZONE
BEGIN:VEVENT
DTSTART;TZID=Europe/Zurich:20250218T180000
DTEND;TZID=Europe/Zurich:20250218T210000
DTSTAMP:20260423T220256
CREATED:20250120T143711Z
LAST-MODIFIED:20250120T144718Z
UID:35939-1739901600-1739912400@www.sinoptic.ch
SUMMARY:L’Art Brut sous trois regards
DESCRIPTION:Dans le cadre de cette conférence\, Mme Véronique TERRIER\, spécialiste du qigong\, évoquera cette pratique qui est au cœur de l’inspiration de la créatrice chinoise GUO Fengyi dont trois œuvres sont exposées au Musée international de la Réforme (MIR). Mmes Mali GENEST\, artiste\, et Véronique MAURON\, historienne de l’art et enseignante à l’EPFL\, proposeront deux autres approches.Cour de Saint-Pierre 10\, GenèveInscription recommandée jusqu’au 14 février 2025
URL:https://www.sinoptic.ch/evenement/lart-brut-sous-trois-regards/
LOCATION:Genève
CATEGORIES:Conférence
END:VEVENT
BEGIN:VEVENT
DTSTART;TZID=Europe/Zurich:20250221T183000
DTEND;TZID=Europe/Zurich:20250221T210000
DTSTAMP:20260423T220256
CREATED:20250108T151223Z
LAST-MODIFIED:20250108T151223Z
UID:35469-1740162600-1740171600@www.sinoptic.ch
SUMMARY:Spanien – Wandernd erfahrbares Vorbild für China in Europa?
DESCRIPTION:Conférence de M. Christian WALSOE
URL:https://www.sinoptic.ch/evenement/spanien-wandernd-erfahrbares-vorbild-fur-china-in-europa/
LOCATION:ChinaHouse Basel\, Hauptstrasse 120\,  \, Sissach
CATEGORIES:Conférence
END:VEVENT
BEGIN:VEVENT
DTSTART;TZID=Europe/Zurich:20250221T190000
DTEND;TZID=Europe/Zurich:20250221T200000
DTSTAMP:20260423T220256
CREATED:20250125T091954Z
LAST-MODIFIED:20250125T091954Z
UID:35983-1740164400-1740168000@www.sinoptic.ch
SUMMARY:Dialogues avec les dieux – Chants\, rituels et effigies chez les Na de Chine
DESCRIPTION:Conférence de Mme Pascale-Marie MILAN\, anthropologue\, dans le cadre d’un cycle de trois conférences organisé par la Fondation Opale en partenariat avec la Fondation culturelle Musée Barbier-Mueller« Les Na de Chine sont installés dans les montagnes de la région sino-tibétaine. Cette société matrilinéaire\, souvent mise en avant pour son organisation familiale singulière et ses mœurs sexuelles atypiques\, est toutefois bien différente de ce qui a été décrit par le passé. L’intervenante Pascale Marie Milan\, anthropologue\, explorera ces nuances et les transformations de cette société. Ce peuple se distingue également par ses pratiques sacrées\, qui révèlent de façon captivante les interactions entre spiritualité et organisation sociale. En matérialisant leurs divinités à travers des sculptures rituelles finement élaborées\, des peintures et divers artefacts minutieusement façonnés pour les sublimer\, les Na nous invitent à découvrir un univers où les frontières conventionnelles entre humains et non-humains s’estompent\, ouvrant ainsi un espace original de dialogue et d’expression. »
URL:https://www.sinoptic.ch/evenement/dialogues-avec-les-dieux-chants-rituels-et-effigies-chez-les-na-de-chine/
LOCATION:Fondation Opale\, Route de Crans 1\, Lens\,  1978
CATEGORIES:Conférence
END:VEVENT
BEGIN:VEVENT
DTSTART;TZID=Europe/Zurich:20250221T193000
DTEND;TZID=Europe/Zurich:20250221T213000
DTSTAMP:20260423T220256
CREATED:20250215T093807Z
LAST-MODIFIED:20250215T093807Z
UID:36143-1740166200-1740173400@www.sinoptic.ch
SUMMARY:Meine Tibet-Fotos 1986
DESCRIPTION:Conférence de M. Fritz BERGER sur son voyage familial.
URL:https://www.sinoptic.ch/evenement/meine-tibet-fotos-1986/
LOCATION:Kulturzentrum Songtsen House\, Gubelhangstrasse 7\, Zürich-Oerlikon
CATEGORIES:Conférence
END:VEVENT
BEGIN:VEVENT
DTSTART;TZID=Europe/Zurich:20250226T090000
DTEND;TZID=Europe/Zurich:20250226T100000
DTSTAMP:20260423T220256
CREATED:20250219T091611Z
LAST-MODIFIED:20250219T091611Z
UID:36170-1740560400-1740564000@www.sinoptic.ch
SUMMARY:Dealing with Trump 2.0
DESCRIPTION:Sous-titre de ce webinaire où intervient M. DA Wei\, directeur\, Center for International Security and Strategy (CISS)\, et professeur\, Relations internationales\, Tsinghua University: Is China making tactical or strategic adjustments in view of the 15th Five-Year-Plan?
URL:https://www.sinoptic.ch/evenement/dealing-with-trump-2-0/
CATEGORIES:Conférence,Webinaire
END:VEVENT
END:VCALENDAR