BEGIN:VCALENDAR
VERSION:2.0
PRODID:-//sinoptic.ch - ECPv6.15.18//NONSGML v1.0//EN
CALSCALE:GREGORIAN
METHOD:PUBLISH
X-ORIGINAL-URL:https://www.sinoptic.ch
X-WR-CALDESC:Évènements pour sinoptic.ch
REFRESH-INTERVAL;VALUE=DURATION:PT1H
X-Robots-Tag:noindex
X-PUBLISHED-TTL:PT1H
BEGIN:VTIMEZONE
TZID:Europe/Zurich
BEGIN:DAYLIGHT
TZOFFSETFROM:+0100
TZOFFSETTO:+0200
TZNAME:CEST
DTSTART:20240331T010000
END:DAYLIGHT
BEGIN:STANDARD
TZOFFSETFROM:+0200
TZOFFSETTO:+0100
TZNAME:CET
DTSTART:20241027T010000
END:STANDARD
BEGIN:DAYLIGHT
TZOFFSETFROM:+0100
TZOFFSETTO:+0200
TZNAME:CEST
DTSTART:20250330T010000
END:DAYLIGHT
BEGIN:STANDARD
TZOFFSETFROM:+0200
TZOFFSETTO:+0100
TZNAME:CET
DTSTART:20251026T010000
END:STANDARD
BEGIN:DAYLIGHT
TZOFFSETFROM:+0100
TZOFFSETTO:+0200
TZNAME:CEST
DTSTART:20260329T010000
END:DAYLIGHT
BEGIN:STANDARD
TZOFFSETFROM:+0200
TZOFFSETTO:+0100
TZNAME:CET
DTSTART:20261025T010000
END:STANDARD
END:VTIMEZONE
BEGIN:VEVENT
DTSTART;TZID=Europe/Zurich:20250403T161500
DTEND;TZID=Europe/Zurich:20250403T174500
DTSTAMP:20260423T193602
CREATED:20250327T075319Z
LAST-MODIFIED:20250327T075319Z
UID:36606-1743696900-1743702300@www.sinoptic.ch
SUMMARY:The Elephant in the Zhuangzi: Incongruity\, Absurdity\, and Philosophy
DESCRIPTION:Conférence de M. Paul J. D’AMBROSIO\, East China Normal UniversitySalle ZUB-4-416\, Zürichbergstrasse 4\, Zurich
URL:https://www.sinoptic.ch/evenement/the-elephant-in-the-zhuangzi-incongruity-absurdity-and-philosophy/
LOCATION:Zurich
CATEGORIES:Conférence
END:VEVENT
BEGIN:VEVENT
DTSTART;TZID=Europe/Zurich:20250407T183000
DTEND;TZID=Europe/Zurich:20250407T200000
DTSTAMP:20260423T193602
CREATED:20250306T095049Z
LAST-MODIFIED:20250314T170021Z
UID:36405-1744050600-1744056000@www.sinoptic.ch
SUMMARY:Will Innovation Made in China Change the World?
DESCRIPTION:ConférenceKraftwerk\, Selnaustrasse 25\, Zurich
URL:https://www.sinoptic.ch/evenement/ill-innovation-made-in-china-change-the-world/
LOCATION:Zurich
CATEGORIES:Conférence
END:VEVENT
BEGIN:VEVENT
DTSTART;TZID=Europe/Zurich:20250410T120000
DTEND;TZID=Europe/Zurich:20250410T140000
DTSTAMP:20260423T193602
CREATED:20250408T105327Z
LAST-MODIFIED:20250408T105525Z
UID:36754-1744286400-1744293600@www.sinoptic.ch
SUMMARY:China Policy and Strategy
DESCRIPTION:Conférence-déjeuner avec MM. Markus HERRMANN et WANG Hailin\, China Macro GroupÉvénement réservé aux membres de la Chambre de commerce Suisse-ChineLieu: Mandarin Oriental Savoy\, Poststrasse 12\, Zurich
URL:https://www.sinoptic.ch/evenement/china-policy-and-strategy/
LOCATION:Zurich
CATEGORIES:Conférence
END:VEVENT
BEGIN:VEVENT
DTSTART;TZID=Europe/Zurich:20250411T183000
DTEND;TZID=Europe/Zurich:20250411T210000
DTSTAMP:20260423T193602
CREATED:20250401T100220Z
LAST-MODIFIED:20250401T100220Z
UID:36647-1744396200-1744405200@www.sinoptic.ch
SUMMARY:China hin und her
DESCRIPTION:Conférence de M. Karl BRANDER\, Solothurner Standortförderung – China et partenaire de Firma 3i Business Solutions
URL:https://www.sinoptic.ch/evenement/china-hin-und-her/
LOCATION:ChinaHouse Basel\, Hauptstrasse 120\,  \, Sissach
CATEGORIES:Conférence
END:VEVENT
BEGIN:VEVENT
DTSTART;TZID=Europe/Zurich:20250415T181500
DTEND;TZID=Europe/Zurich:20250415T200000
DTSTAMP:20260423T193602
CREATED:20250404T041000Z
LAST-MODIFIED:20250404T041000Z
UID:36681-1744740900-1744747200@www.sinoptic.ch
SUMMARY:Chinese Economy and the Second Trump Presidency
DESCRIPTION:Conférence de M. HUANG Yasheng\, professeur\, MIT Sloan School of Management
URL:https://www.sinoptic.ch/evenement/chinese-economy-and-the-second-trump-presidency/
LOCATION:Zurich
CATEGORIES:Conférence
END:VEVENT
BEGIN:VEVENT
DTSTART;TZID=Europe/Zurich:20250415T181500
DTEND;TZID=Europe/Zurich:20250415T200000
DTSTAMP:20260423T193602
CREATED:20250404T232747Z
LAST-MODIFIED:20250404T232747Z
UID:36736-1744740900-1744747200@www.sinoptic.ch
SUMMARY:Développement durable et transition de cycle en Chine
DESCRIPTION:Conférence de M. Guillaume GIROIR\, professeur\, Université d’Orléans« L’exposé tentera de montrer que la Chine s’inscrit dans une « méga-transition de cycle » en matière de développement durable. Loin d’un schéma exclusivement linéaire\, cette «poly-transition» revêt des modalités complexes\, notamment: rétro-transition\, pseudo-transition\, transition en trompe-l’œil\, transition ambivalente.\nCe fil conducteur théorique sera illustré par de brefs aperçus concernant divers thèmes particuliers\, par exemple : biodiversité\, inégalités sociales et territoriales\, pollution de l’air\, transition énergétique\, lutte contre la désertification\, villes écologiques\, changement climatique. »Lieu: salle M1160\, Uni Mail\, Genève
URL:https://www.sinoptic.ch/evenement/developpement-durable-et-transition-de-cycle-en-chine/
LOCATION:Genève
CATEGORIES:Conférence
END:VEVENT
BEGIN:VEVENT
DTSTART;TZID=Europe/Zurich:20250423T090000
DTEND;TZID=Europe/Zurich:20250423T094500
DTSTAMP:20260423T193602
CREATED:20250331T135130Z
LAST-MODIFIED:20250331T135130Z
UID:36639-1745398800-1745401500@www.sinoptic.ch
SUMMARY:Four years into 14th Five-Year-Plan
DESCRIPTION:Conférence\, dont le sous-titre est « Taking stock of its execution after the NPC 2025 »\, de M. ZHU Guangyao\, vice-président de la CCIEE et ancien vice-ministre des Finances
URL:https://www.sinoptic.ch/evenement/four-years-into-14th-five-year-plan/
CATEGORIES:Conférence,Webinaire
END:VEVENT
END:VCALENDAR