BEGIN:VCALENDAR
VERSION:2.0
PRODID:-//sinoptic.ch - ECPv6.15.18//NONSGML v1.0//EN
CALSCALE:GREGORIAN
METHOD:PUBLISH
X-WR-CALNAME:sinoptic.ch
X-ORIGINAL-URL:https://www.sinoptic.ch
X-WR-CALDESC:Évènements pour sinoptic.ch
REFRESH-INTERVAL;VALUE=DURATION:PT1H
X-Robots-Tag:noindex
X-PUBLISHED-TTL:PT1H
BEGIN:VTIMEZONE
TZID:Europe/Zurich
BEGIN:DAYLIGHT
TZOFFSETFROM:+0100
TZOFFSETTO:+0200
TZNAME:CEST
DTSTART:20240331T010000
END:DAYLIGHT
BEGIN:STANDARD
TZOFFSETFROM:+0200
TZOFFSETTO:+0100
TZNAME:CET
DTSTART:20241027T010000
END:STANDARD
BEGIN:DAYLIGHT
TZOFFSETFROM:+0100
TZOFFSETTO:+0200
TZNAME:CEST
DTSTART:20250330T010000
END:DAYLIGHT
BEGIN:STANDARD
TZOFFSETFROM:+0200
TZOFFSETTO:+0100
TZNAME:CET
DTSTART:20251026T010000
END:STANDARD
BEGIN:DAYLIGHT
TZOFFSETFROM:+0100
TZOFFSETTO:+0200
TZNAME:CEST
DTSTART:20260329T010000
END:DAYLIGHT
BEGIN:STANDARD
TZOFFSETFROM:+0200
TZOFFSETTO:+0100
TZNAME:CET
DTSTART:20261025T010000
END:STANDARD
END:VTIMEZONE
BEGIN:VEVENT
DTSTART;TZID=Europe/Zurich:20250604T140000
DTEND;TZID=Europe/Zurich:20250604T163000
DTSTAMP:20260423T165526
CREATED:20250516T124847Z
LAST-MODIFIED:20250516T124847Z
UID:37831-1749045600-1749054600@www.sinoptic.ch
SUMMARY:Strategic Market Entry into China: Opportunities and Insights for 2025
DESCRIPTION:Atelier sur l’exportation avec Mme Connie WAY\, directrice exécutive\, Swiss China Business Academy (SCBA) Biz Switzerland\, et Mme Nathalie ULIANA LIARD\, responsable Projets marketing et communications\, Ritschard S.A.​​​​
URL:https://www.sinoptic.ch/evenement/strategic-market-entry-into-china-opportunities-and-insights-for-2025/
LOCATION:Chambre de commerce\, d’industrie et des services de Genève\, Boulevard du Théâtre 4\, Genève\, 1204\, Suisse
CATEGORIES:Atelier,Conférence
END:VEVENT
BEGIN:VEVENT
DTSTART;TZID=Europe/Zurich:20250605T170000
DTEND;TZID=Europe/Zurich:20250605T183000
DTSTAMP:20260423T165526
CREATED:20250520T085916Z
LAST-MODIFIED:20250520T085916Z
UID:37841-1749142800-1749148200@www.sinoptic.ch
SUMMARY:Hongkong: A World of Opportunities
DESCRIPTION:Conférence de M. Anthony LAU\, directeur\, Hongkong Talent EngageOrganisation: Centre de carrière de l’Université de GenèveLieu: Uni Dufour\, rue du Général-Dufour 24\, Genève
URL:https://www.sinoptic.ch/evenement/hongkong-a-world-of-opportunities/
LOCATION:Genève
CATEGORIES:Conférence
END:VEVENT
BEGIN:VEVENT
DTSTART;TZID=Europe/Zurich:20250606T090000
DTEND;TZID=Europe/Zurich:20250606T093000
DTSTAMP:20260423T165526
CREATED:20250524T081919Z
LAST-MODIFIED:20250524T081919Z
UID:37919-1749200400-1749202200@www.sinoptic.ch
SUMMARY:From “Copycat China” to “Innovation China”
DESCRIPTION:Webinaire avec Mme Esther BIAN\, partenaire\, C3U Venture Capital\, Shenzhen
URL:https://www.sinoptic.ch/evenement/from-copycat-china-to-innovation-china/
CATEGORIES:Conférence,Webinaire
END:VEVENT
BEGIN:VEVENT
DTSTART;TZID=Europe/Zurich:20250606T183000
DTEND;TZID=Europe/Zurich:20250606T210000
DTSTAMP:20260423T165526
CREATED:20250401T101620Z
LAST-MODIFIED:20250401T101620Z
UID:36655-1749234600-1749243600@www.sinoptic.ch
SUMMARY:Auf spektakulärsten Grossbaustellen weltweit
DESCRIPTION:Conférence de M. Peter TSCHUDIN
URL:https://www.sinoptic.ch/evenement/auf-spektakularsten-grossbaustellen-weltweit/
LOCATION:ChinaHouse Basel\, Hauptstrasse 120\,  \, Sissach
CATEGORIES:Conférence
END:VEVENT
BEGIN:VEVENT
DTSTART;TZID=Europe/Zurich:20250610T183000
DTEND;TZID=Europe/Zurich:20250610T203000
DTSTAMP:20260423T165526
CREATED:20250412T034609Z
LAST-MODIFIED:20250412T034609Z
UID:36889-1749580200-1749587400@www.sinoptic.ch
SUMMARY:«Elle portait déjà la moitié du ciel!»
DESCRIPTION:Un regard décalé sur le statut de la femme en Chine ancienne – Conférence de M. Nicolas ZUFFEREY\, professeur\, Université de Genève\, proposée dans le cadre de l’exposition 女 Femmes chinoises
URL:https://www.sinoptic.ch/evenement/elle-portait-deja-la-moitie-du-ciel/
LOCATION:Fondation Baur\, Rue Munier-Romilly 8\, Genève
CATEGORIES:Conférence
END:VEVENT
BEGIN:VEVENT
DTSTART;TZID=Europe/Zurich:20250613T090000
DTEND;TZID=Europe/Zurich:20250613T093000
DTSTAMP:20260423T165526
CREATED:20250524T082243Z
LAST-MODIFIED:20250524T082243Z
UID:37921-1749805200-1749807000@www.sinoptic.ch
SUMMARY:From “Copycat China” to “Innovation China”
DESCRIPTION:Webinaire avec Mme Virginia CHEUNG\, chercheuse associée\, Université de Shenzhen
URL:https://www.sinoptic.ch/evenement/from-copycat-china-to-innovation-china-2/
CATEGORIES:Conférence,Webinaire
END:VEVENT
BEGIN:VEVENT
DTSTART;TZID=Europe/Zurich:20250614T100000
DTEND;TZID=Europe/Zurich:20250614T133000
DTSTAMP:20260423T165526
CREATED:20250520T122405Z
LAST-MODIFIED:20250520T122405Z
UID:37853-1749895200-1749907800@www.sinoptic.ch
SUMMARY:La diversité des relations de la Suisse avec la Chine
DESCRIPTION:Table ronde dans le cadre de l’Assemblée générale de la Société Suisse-Chine (SSC)Avec la participation de M. Blaise GODET\, ancien ambassadeur\, ambassadeur à Beijing 2009–2012\, de M. Simon MICHEL\, conseiller national et PDG d’Ypsomed SA\, de Mme Flavia SCHLEGEL\, Dr méd.\, directrice de Swissnex Chine 2008–2012\, de M. Simon BOSSHART\, responsable marchés Est de Suisse Tourisme\, directeur de Suisse Tourisme Beijing de 2006–2013 et de M. Alain GRAF\, consultant senior APAC Switzerland Global Enterprise – Romandie\, membre du Comité de la Section romande de la Société Suisse-Chine\, directeur du Swiss Business Hub Chine 2012–2017.Casino de Berne.La SSC fête cette année ses 80 ans d’existence.
URL:https://www.sinoptic.ch/evenement/la-diversite-des-relations-de-la-suisse-avec-la-chine/
LOCATION:Berne
CATEGORIES:Conférence
END:VEVENT
BEGIN:VEVENT
DTSTART;TZID=Europe/Zurich:20250614T143000
DTEND;TZID=Europe/Zurich:20250614T163000
DTSTAMP:20260423T165526
CREATED:20250412T035015Z
LAST-MODIFIED:20250412T035015Z
UID:36891-1749911400-1749918600@www.sinoptic.ch
SUMMARY:Les tissus de mariage chinois
DESCRIPTION:Conférence et démonstration\, proposées dans le cadre de l’exposition 女 Femmes chinoises
URL:https://www.sinoptic.ch/evenement/les-tissus-de-mariage-chinois/
LOCATION:Fondation Baur\, Rue Munier-Romilly 8\, Genève
CATEGORIES:Conférence
END:VEVENT
BEGIN:VEVENT
DTSTART;TZID=Europe/Zurich:20250616T114500
DTEND;TZID=Europe/Zurich:20250616T140000
DTSTAMP:20260423T165526
CREATED:20250428T090544Z
LAST-MODIFIED:20250428T090544Z
UID:37477-1750074300-1750082400@www.sinoptic.ch
SUMMARY:La vision chinoise de l’ordre mondial
DESCRIPTION:Conférence de M. Jean-Pierre CABESTAN\, professeur\, Université baptiste de HongkongLieu: Restaurant Vieux-Bois\, École hôtelière de Genève (EHG)\, avenue de la Paix 12\, Genève
URL:https://www.sinoptic.ch/evenement/la-vision-chinoise-de-lordre-mondial/
LOCATION:Genève
CATEGORIES:Conférence
END:VEVENT
BEGIN:VEVENT
DTSTART;TZID=Europe/Zurich:20250620T090000
DTEND;TZID=Europe/Zurich:20250620T100000
DTSTAMP:20260423T165526
CREATED:20250527T060458Z
LAST-MODIFIED:20250527T060458Z
UID:37936-1750410000-1750413600@www.sinoptic.ch
SUMMARY:The long view
DESCRIPTION:Sous-titre de ce webinaire 10-year outlook imagining China in 2035 as the next key modernization milestone avec Mme ZHANG Dandan\, professeure d’économie et doyenne adjointe de l’École nationale du développement (END)\, Université de Beijing
URL:https://www.sinoptic.ch/evenement/the-long-view/
CATEGORIES:Conférence,Webinaire
END:VEVENT
BEGIN:VEVENT
DTSTART;TZID=Europe/Zurich:20250626T183000
DTEND;TZID=Europe/Zurich:20250626T203000
DTSTAMP:20260423T165526
CREATED:20250412T035500Z
LAST-MODIFIED:20250412T035500Z
UID:36893-1750962600-1750969800@www.sinoptic.ch
SUMMARY:À la recherche de la beauté: les femmes sur les céramiques chinoises
DESCRIPTION:Conférence de Mme Claire Hui TANG\, chercheuse indépendante\, proposée dans le cadre de l’exposition 女 Femmes chinoises
URL:https://www.sinoptic.ch/evenement/a-la-recherche-de-la-beaute-les-femmes-sur-les-ceramiques-chinoises/
LOCATION:Fondation Baur\, Rue Munier-Romilly 8\, Genève
CATEGORIES:Conférence
END:VEVENT
END:VCALENDAR