BEGIN:VCALENDAR
VERSION:2.0
PRODID:-//sinoptic.ch - ECPv6.15.18//NONSGML v1.0//EN
CALSCALE:GREGORIAN
METHOD:PUBLISH
X-WR-CALNAME:sinoptic.ch
X-ORIGINAL-URL:https://www.sinoptic.ch
X-WR-CALDESC:Évènements pour sinoptic.ch
REFRESH-INTERVAL;VALUE=DURATION:PT1H
X-Robots-Tag:noindex
X-PUBLISHED-TTL:PT1H
BEGIN:VTIMEZONE
TZID:Europe/Zurich
BEGIN:DAYLIGHT
TZOFFSETFROM:+0100
TZOFFSETTO:+0200
TZNAME:CEST
DTSTART:20240331T010000
END:DAYLIGHT
BEGIN:STANDARD
TZOFFSETFROM:+0200
TZOFFSETTO:+0100
TZNAME:CET
DTSTART:20241027T010000
END:STANDARD
BEGIN:DAYLIGHT
TZOFFSETFROM:+0100
TZOFFSETTO:+0200
TZNAME:CEST
DTSTART:20250330T010000
END:DAYLIGHT
BEGIN:STANDARD
TZOFFSETFROM:+0200
TZOFFSETTO:+0100
TZNAME:CET
DTSTART:20251026T010000
END:STANDARD
BEGIN:DAYLIGHT
TZOFFSETFROM:+0100
TZOFFSETTO:+0200
TZNAME:CEST
DTSTART:20260329T010000
END:DAYLIGHT
BEGIN:STANDARD
TZOFFSETFROM:+0200
TZOFFSETTO:+0100
TZNAME:CET
DTSTART:20261025T010000
END:STANDARD
END:VTIMEZONE
BEGIN:VEVENT
DTSTART;TZID=Europe/Zurich:20250320T114500
DTEND;TZID=Europe/Zurich:20250320T140000
DTSTAMP:20260423T221801
CREATED:20250310T144705Z
LAST-MODIFIED:20250310T145050Z
UID:36435-1742471100-1742479200@www.sinoptic.ch
SUMMARY:XI Jinping et l'évolution de la politique chinoise
DESCRIPTION:Déjeuner-conférence avec M. Éric MEYER\, journaliste\, écrivain et spécialiste de la ChineOrganisation: Forum suisse de politique internationale (FSPI)Lieu: Restaurant Vieux-Bois\, École Hôtelière de Genève (EHG)\, Avenue de la Paix 12\, GenèvePrix: membres CHF 80\, non-membres CHF 100\, étudiants et étudiantes CHF 40
URL:https://www.sinoptic.ch/evenement/xi-jinping-et-levolution-de-la-politique-chinoise/
LOCATION:Genève
CATEGORIES:Conférence
END:VEVENT
END:VCALENDAR