BEGIN:VCALENDAR
VERSION:2.0
PRODID:-//sinoptic.ch - ECPv6.15.18//NONSGML v1.0//EN
CALSCALE:GREGORIAN
METHOD:PUBLISH
X-ORIGINAL-URL:https://www.sinoptic.ch
X-WR-CALDESC:Évènements pour sinoptic.ch
REFRESH-INTERVAL;VALUE=DURATION:PT1H
X-Robots-Tag:noindex
X-PUBLISHED-TTL:PT1H
BEGIN:VTIMEZONE
TZID:Europe/Zurich
BEGIN:DAYLIGHT
TZOFFSETFROM:+0100
TZOFFSETTO:+0200
TZNAME:CEST
DTSTART:20240331T010000
END:DAYLIGHT
BEGIN:STANDARD
TZOFFSETFROM:+0200
TZOFFSETTO:+0100
TZNAME:CET
DTSTART:20241027T010000
END:STANDARD
BEGIN:DAYLIGHT
TZOFFSETFROM:+0100
TZOFFSETTO:+0200
TZNAME:CEST
DTSTART:20250330T010000
END:DAYLIGHT
BEGIN:STANDARD
TZOFFSETFROM:+0200
TZOFFSETTO:+0100
TZNAME:CET
DTSTART:20251026T010000
END:STANDARD
BEGIN:DAYLIGHT
TZOFFSETFROM:+0100
TZOFFSETTO:+0200
TZNAME:CEST
DTSTART:20260329T010000
END:DAYLIGHT
BEGIN:STANDARD
TZOFFSETFROM:+0200
TZOFFSETTO:+0100
TZNAME:CET
DTSTART:20261025T010000
END:STANDARD
END:VTIMEZONE
BEGIN:VEVENT
DTSTART;TZID=Europe/Zurich:20250415T181500
DTEND;TZID=Europe/Zurich:20250415T200000
DTSTAMP:20260423T210044
CREATED:20250404T041000Z
LAST-MODIFIED:20250404T041000Z
UID:36681-1744740900-1744747200@www.sinoptic.ch
SUMMARY:Chinese Economy and the Second Trump Presidency
DESCRIPTION:Conférence de M. HUANG Yasheng\, professeur\, MIT Sloan School of Management
URL:https://www.sinoptic.ch/evenement/chinese-economy-and-the-second-trump-presidency/
LOCATION:Zurich
CATEGORIES:Conférence
END:VEVENT
BEGIN:VEVENT
DTSTART;TZID=Europe/Zurich:20250415T181500
DTEND;TZID=Europe/Zurich:20250415T200000
DTSTAMP:20260423T210044
CREATED:20250404T232747Z
LAST-MODIFIED:20250404T232747Z
UID:36736-1744740900-1744747200@www.sinoptic.ch
SUMMARY:Développement durable et transition de cycle en Chine
DESCRIPTION:Conférence de M. Guillaume GIROIR\, professeur\, Université d’Orléans« L’exposé tentera de montrer que la Chine s’inscrit dans une « méga-transition de cycle » en matière de développement durable. Loin d’un schéma exclusivement linéaire\, cette «poly-transition» revêt des modalités complexes\, notamment: rétro-transition\, pseudo-transition\, transition en trompe-l’œil\, transition ambivalente.\nCe fil conducteur théorique sera illustré par de brefs aperçus concernant divers thèmes particuliers\, par exemple : biodiversité\, inégalités sociales et territoriales\, pollution de l’air\, transition énergétique\, lutte contre la désertification\, villes écologiques\, changement climatique. »Lieu: salle M1160\, Uni Mail\, Genève
URL:https://www.sinoptic.ch/evenement/developpement-durable-et-transition-de-cycle-en-chine/
LOCATION:Genève
CATEGORIES:Conférence
END:VEVENT
END:VCALENDAR