BEGIN:VCALENDAR
VERSION:2.0
PRODID:-//sinoptic.ch - ECPv6.15.18//NONSGML v1.0//EN
CALSCALE:GREGORIAN
METHOD:PUBLISH
X-WR-CALNAME:sinoptic.ch
X-ORIGINAL-URL:https://www.sinoptic.ch
X-WR-CALDESC:Évènements pour sinoptic.ch
REFRESH-INTERVAL;VALUE=DURATION:PT1H
X-Robots-Tag:noindex
X-PUBLISHED-TTL:PT1H
BEGIN:VTIMEZONE
TZID:Europe/Zurich
BEGIN:DAYLIGHT
TZOFFSETFROM:+0100
TZOFFSETTO:+0200
TZNAME:CEST
DTSTART:20240331T010000
END:DAYLIGHT
BEGIN:STANDARD
TZOFFSETFROM:+0200
TZOFFSETTO:+0100
TZNAME:CET
DTSTART:20241027T010000
END:STANDARD
BEGIN:DAYLIGHT
TZOFFSETFROM:+0100
TZOFFSETTO:+0200
TZNAME:CEST
DTSTART:20250330T010000
END:DAYLIGHT
BEGIN:STANDARD
TZOFFSETFROM:+0200
TZOFFSETTO:+0100
TZNAME:CET
DTSTART:20251026T010000
END:STANDARD
BEGIN:DAYLIGHT
TZOFFSETFROM:+0100
TZOFFSETTO:+0200
TZNAME:CEST
DTSTART:20260329T010000
END:DAYLIGHT
BEGIN:STANDARD
TZOFFSETFROM:+0200
TZOFFSETTO:+0100
TZNAME:CET
DTSTART:20261025T010000
END:STANDARD
END:VTIMEZONE
BEGIN:VEVENT
DTSTART;TZID=Europe/Zurich:20250528T123000
DTEND;TZID=Europe/Zurich:20250528T133000
DTSTAMP:20260423T181022
CREATED:20250514T154240Z
LAST-MODIFIED:20250514T154240Z
UID:37811-1748435400-1748439000@www.sinoptic.ch
SUMMARY:Facing Trump's US: China's Challenges and Opportunities
DESCRIPTION:Table-ronde avec M. Jan KIELY\, chargé d’enseignement et de recherche\, Histoire et politique internationales\, Mme LING Minhua\, professeure associée en anthropologie et sociologie\, Mme ZI Yuan\, professeure associée en économie internationaleAuditorium Ivan Pictet\, Maison de la paix\, Genève
URL:https://www.sinoptic.ch/evenement/facing-trumps-us-chinas-challenges-and-opportunities/
LOCATION:Institut de hautes études internationales et du développement\, Maison de la Paix\, Genève
CATEGORIES:Conférence,Débat
END:VEVENT
END:VCALENDAR