BEGIN:VCALENDAR
VERSION:2.0
PRODID:-//sinoptic.ch - ECPv6.15.18//NONSGML v1.0//EN
CALSCALE:GREGORIAN
METHOD:PUBLISH
X-WR-CALNAME:sinoptic.ch
X-ORIGINAL-URL:https://www.sinoptic.ch
X-WR-CALDESC:Évènements pour sinoptic.ch
REFRESH-INTERVAL;VALUE=DURATION:PT1H
X-Robots-Tag:noindex
X-PUBLISHED-TTL:PT1H
BEGIN:VTIMEZONE
TZID:Europe/Zurich
BEGIN:DAYLIGHT
TZOFFSETFROM:+0100
TZOFFSETTO:+0200
TZNAME:CEST
DTSTART:20240331T010000
END:DAYLIGHT
BEGIN:STANDARD
TZOFFSETFROM:+0200
TZOFFSETTO:+0100
TZNAME:CET
DTSTART:20241027T010000
END:STANDARD
BEGIN:DAYLIGHT
TZOFFSETFROM:+0100
TZOFFSETTO:+0200
TZNAME:CEST
DTSTART:20250330T010000
END:DAYLIGHT
BEGIN:STANDARD
TZOFFSETFROM:+0200
TZOFFSETTO:+0100
TZNAME:CET
DTSTART:20251026T010000
END:STANDARD
BEGIN:DAYLIGHT
TZOFFSETFROM:+0100
TZOFFSETTO:+0200
TZNAME:CEST
DTSTART:20260329T010000
END:DAYLIGHT
BEGIN:STANDARD
TZOFFSETFROM:+0200
TZOFFSETTO:+0100
TZNAME:CET
DTSTART:20261025T010000
END:STANDARD
END:VTIMEZONE
BEGIN:VEVENT
DTSTART;TZID=Europe/Zurich:20250620T090000
DTEND;TZID=Europe/Zurich:20250620T100000
DTSTAMP:20260423T180916
CREATED:20250527T060458Z
LAST-MODIFIED:20250527T060458Z
UID:37936-1750410000-1750413600@www.sinoptic.ch
SUMMARY:The long view
DESCRIPTION:Sous-titre de ce webinaire 10-year outlook imagining China in 2035 as the next key modernization milestone avec Mme ZHANG Dandan\, professeure d’économie et doyenne adjointe de l’École nationale du développement (END)\, Université de Beijing
URL:https://www.sinoptic.ch/evenement/the-long-view/
CATEGORIES:Conférence,Webinaire
END:VEVENT
END:VCALENDAR