BEGIN:VCALENDAR
VERSION:2.0
PRODID:-//sinoptic.ch - ECPv6.15.18//NONSGML v1.0//EN
CALSCALE:GREGORIAN
METHOD:PUBLISH
X-ORIGINAL-URL:https://www.sinoptic.ch
X-WR-CALDESC:Évènements pour sinoptic.ch
REFRESH-INTERVAL;VALUE=DURATION:PT1H
X-Robots-Tag:noindex
X-PUBLISHED-TTL:PT1H
BEGIN:VTIMEZONE
TZID:Europe/Zurich
BEGIN:DAYLIGHT
TZOFFSETFROM:+0100
TZOFFSETTO:+0200
TZNAME:CEST
DTSTART:20240331T010000
END:DAYLIGHT
BEGIN:STANDARD
TZOFFSETFROM:+0200
TZOFFSETTO:+0100
TZNAME:CET
DTSTART:20241027T010000
END:STANDARD
BEGIN:DAYLIGHT
TZOFFSETFROM:+0100
TZOFFSETTO:+0200
TZNAME:CEST
DTSTART:20250330T010000
END:DAYLIGHT
BEGIN:STANDARD
TZOFFSETFROM:+0200
TZOFFSETTO:+0100
TZNAME:CET
DTSTART:20251026T010000
END:STANDARD
BEGIN:DAYLIGHT
TZOFFSETFROM:+0100
TZOFFSETTO:+0200
TZNAME:CEST
DTSTART:20260329T010000
END:DAYLIGHT
BEGIN:STANDARD
TZOFFSETFROM:+0200
TZOFFSETTO:+0100
TZNAME:CET
DTSTART:20261025T010000
END:STANDARD
BEGIN:DAYLIGHT
TZOFFSETFROM:+0100
TZOFFSETTO:+0200
TZNAME:CEST
DTSTART:20270328T010000
END:DAYLIGHT
BEGIN:STANDARD
TZOFFSETFROM:+0200
TZOFFSETTO:+0100
TZNAME:CET
DTSTART:20271031T010000
END:STANDARD
END:VTIMEZONE
BEGIN:VEVENT
DTSTART;VALUE=DATE:20250601
DTEND;VALUE=DATE:20260406
DTSTAMP:20260419T191852
CREATED:20250713T231737Z
LAST-MODIFIED:20250713T232127Z
UID:38292-1748736000-1775433599@www.sinoptic.ch
SUMMARY:XU Ying & Marieke PRINSLOO-ROWE
DESCRIPTION:ExpositionNée à Shanghai\, Mme XU Ying vit et travaille en Suisse depuis de nombreuses années. \nSaratz Pontresina\, Via da la Staziun 2\, 7504 Pontresina / St. Moritz
URL:https://www.sinoptic.ch/evenement/xu-ying-marieke-prinsloo-rowe/
CATEGORIES:Exposition
END:VEVENT
BEGIN:VEVENT
DTSTART;VALUE=DATE:20260201
DTEND;VALUE=DATE:20260310
DTSTAMP:20260419T191852
CREATED:20260206T090043Z
LAST-MODIFIED:20260206T090043Z
UID:40802-1769904000-1773100799@www.sinoptic.ch
SUMMARY:Spring of the Wandering Dreamer
DESCRIPTION:Exposition de Mme ZHAO Mengge
URL:https://www.sinoptic.ch/evenement/spring-of-the-wandering-dreamer/
LOCATION:Galerie Helai\, Hammerstrasse 21\, Zurich\, 8008
CATEGORIES:Exposition
END:VEVENT
BEGIN:VEVENT
DTSTART;VALUE=DATE:20260205
DTEND;VALUE=DATE:20260403
DTSTAMP:20260419T191852
CREATED:20260126T082754Z
LAST-MODIFIED:20260317T005245Z
UID:40691-1770249600-1775174399@www.sinoptic.ch
SUMMARY:Anker Protocol - 2.0 A Place of Concealment
DESCRIPTION:Exposition collective avec des œuvres de AI Weiwei\, BIAN Qing\, CHEN Zuo\, HAN Zishi\, Klodin ERB\, LI Kejin\, LIANG Yujue\, MAI Ta\, WANG Xingwei\, XIE Nanxing
URL:https://www.sinoptic.ch/evenement/anker-protocol-2-0-a-place-of-concealment/
LOCATION:Galerie Urs Meile – Zurich\, Rämistrasse 33\, Zurich\, 8001\, Switzerland
CATEGORIES:Exposition
END:VEVENT
BEGIN:VEVENT
DTSTART;VALUE=DATE:20260205
DTEND;VALUE=DATE:20260412
DTSTAMP:20260419T191852
CREATED:20260213T055637Z
LAST-MODIFIED:20260213T055637Z
UID:40849-1770249600-1775951999@www.sinoptic.ch
SUMMARY:Spectres in Rehearsal
DESCRIPTION:Exposition de peinture de l’artiste DING ShilunLieu: Galerie Bernheim\, Rämistrasse 31\, Zurich
URL:https://www.sinoptic.ch/evenement/spectres-in-rehearsal/
LOCATION:Zurich
CATEGORIES:Exposition
END:VEVENT
BEGIN:VEVENT
DTSTART;VALUE=DATE:20260222
DTEND;VALUE=DATE:20260518
DTSTAMP:20260419T191852
CREATED:20260130T131526Z
LAST-MODIFIED:20260130T131706Z
UID:40742-1771718400-1779062399@www.sinoptic.ch
SUMMARY:Tradition & Perfektion - Papierschnitte aus China und der Schweiz
DESCRIPTION:Exposition de papier découpéLieu: Kunsthaus Interlaken\, Jungfraustrasse 55\, Interlaken
URL:https://www.sinoptic.ch/evenement/tradition-perfektion-papierschnitte-aus-china-und-der-schweiz/
CATEGORIES:Exposition
END:VEVENT
BEGIN:VEVENT
DTSTART;TZID=Europe/Zurich:20260305T181500
DTEND;TZID=Europe/Zurich:20260305T200000
DTSTAMP:20260419T191852
CREATED:20260302T093114Z
LAST-MODIFIED:20260302T093114Z
UID:40972-1772734500-1772740800@www.sinoptic.ch
SUMMARY:Grandeur et misère de la musique en Chine ancienne
DESCRIPTION:Conférence de Mme Béatrice L’HARIDON\, professeure\, Département d’études est-asiatiques\, Université de GenèveLieu: salle PHIL 211\, Bâtiment des Philosophes\, Genève
URL:https://www.sinoptic.ch/evenement/grandeur-et-misere-de-la-musique-en-chine-ancienne/
LOCATION:Genève
CATEGORIES:Conférence
END:VEVENT
BEGIN:VEVENT
DTSTART;VALUE=DATE:20260307
DTEND;VALUE=DATE:20260309
DTSTAMP:20260419T191852
CREATED:20260224T061557Z
LAST-MODIFIED:20260224T061949Z
UID:40924-1772841600-1773014399@www.sinoptic.ch
SUMMARY:Chine\, empire des symboles
DESCRIPTION:Conférence de Mme Élisabeth ROCHAT DE LA VALLÉE\, professeure de philosophie chinoise ancienne\, qui abordera les deux thèmes suivants: « La symbolique des nombres dans la Chine ancienne » et « L’humain\, entre ciel et terre ».Organisation: CultureChine et Mme Arlette DE BEAUCORPSLieu: Salle de la Société vaudoise de navigation NANA\, LausannePrix: CHF 240\,–; AVS / étudiants et étudiantes / élèves de CultureChine/ membres de la Société Suisse-Chine/ membred de l’Association du Roi Wen: CHF 200\,–
URL:https://www.sinoptic.ch/evenement/chine-empire-des-symboles/
LOCATION:Lausanne
CATEGORIES:Conférence
END:VEVENT
BEGIN:VEVENT
DTSTART;TZID=Europe/Zurich:20260307T110000
DTEND;TZID=Europe/Zurich:20260307T133000
DTSTAMP:20260419T191852
CREATED:20260108T063734Z
LAST-MODIFIED:20260108T123724Z
UID:40350-1772881200-1772890200@www.sinoptic.ch
SUMMARY:Auf spektakulärsten Grossbaustellen weltweit
DESCRIPTION:Conférence de Peter TSCHUDIN\, ancien entrepreneur
URL:https://www.sinoptic.ch/evenement/auf-spektakularsten-grossbaustellen-weltweit-2/
LOCATION:ChinaHouse Basel\, Hauptstrasse 120\,  \, Sissach
CATEGORIES:Conférence
END:VEVENT
BEGIN:VEVENT
DTSTART;TZID=Europe/Zurich:20260309T183000
DTEND;TZID=Europe/Zurich:20260309T200000
DTSTAMP:20260419T191852
CREATED:20260128T154937Z
LAST-MODIFIED:20260128T154937Z
UID:40720-1773081000-1773086400@www.sinoptic.ch
SUMMARY:Is Europe's Economy Threatened by China?
DESCRIPTION:Conférence avec la participation de Mmes XIE Yanmei\, membre senior TOY 2026\, et Camille BOULLENOIS\, directrice adjointe du Groupe Rhodium\, MM. Michael LAHA\, chercheur à la Deutsche Gesellschaft für Auswärtige Politik (DGAP)\, et John LEE\, membre senior TOY 2025.Lieu: Kraftwerk\, Selnaustrasse 25\, Zurich
URL:https://www.sinoptic.ch/evenement/is-europes-economy-threatened-by-china/
LOCATION:Zurich
CATEGORIES:Conférence
END:VEVENT
BEGIN:VEVENT
DTSTART;TZID=Europe/Zurich:20260310T161500
DTEND;TZID=Europe/Zurich:20260310T174500
DTSTAMP:20260419T191852
CREATED:20260306T155040Z
LAST-MODIFIED:20260306T155040Z
UID:41001-1773159300-1773164700@www.sinoptic.ch
SUMMARY:Can technology solve all of XI’s problems?
DESCRIPTION:Conférence de Mme XIE Yanmei\, RAND China Research Center and Mercator Institute for China Studies.
URL:https://www.sinoptic.ch/evenement/can-technology-solve-all-of-xis-problems/
LOCATION:Asien-Orient-Institut – Sinologie\, Zurich
CATEGORIES:Conférence
END:VEVENT
BEGIN:VEVENT
DTSTART;VALUE=DATE:20260313
DTEND;VALUE=DATE:20260318
DTSTAMP:20260419T191852
CREATED:20260212T054511Z
LAST-MODIFIED:20260212T054511Z
UID:40839-1773360000-1773791999@www.sinoptic.ch
SUMMARY:2026 Shanghai Global Investment Promotion Conference
DESCRIPTION:Délégation mise sur pied par la Chambre de commerce Suisse-Chine – Romandie pour participer à cette conférence promotionnelle à ShanghaiPrix: CHF 400\,– pour les membres de la CCSC\, 800\,– pour les non-membres
URL:https://www.sinoptic.ch/evenement/2026-shanghai-global-investment-promotion-conference/
LOCATION:Shanghai
CATEGORIES:Délégation
END:VEVENT
BEGIN:VEVENT
DTSTART;TZID=Europe/Zurich:20260314T143000
DTEND;TZID=Europe/Zurich:20260314T163000
DTSTAMP:20260419T191852
CREATED:20260313T140622Z
LAST-MODIFIED:20260313T140917Z
UID:41047-1773498600-1773505800@www.sinoptic.ch
SUMMARY:Chine: une puissance stabilisatrice?
DESCRIPTION:Débat avec la participation de Marie HOLZMAN\, sinologue et spécialiste de la Chine contemporaine\, Matthias SANDER\, journaliste à la NZZ et ancien correspondant en Chine\, Raphaël VIANA DAVID\, responsable du programme Chine à ISHR\, Carmen LAU\,\nactiviste hongkongaise et ancienne conseillère de district élue (en vidéoconférence); conduite de la discussion: Frédéric KOLLER\, journaliste\, Le Temps; dans le cadre du Festival du film et forum international sur les droits humains (FIFDH).Lieu: Espace Pitoëff\, Genève
URL:https://www.sinoptic.ch/evenement/chine-une-puissance-stabilisatrice/
LOCATION:Genève
CATEGORIES:Débat
END:VEVENT
BEGIN:VEVENT
DTSTART;TZID=Europe/Zurich:20260314T180000
DTEND;TZID=Europe/Zurich:20260314T200000
DTSTAMP:20260419T191852
CREATED:20260223T082849Z
LAST-MODIFIED:20260224T161327Z
UID:40914-1773511200-1773518400@www.sinoptic.ch
SUMMARY:Teahouse Liu in Bad Ragaz
DESCRIPTION:Visite et dégusation de thé avec la participation de Mme SUN Mulan\, architecte chinoise basé à Zurich (SML Architektur GmbH ETH/SIA) et présidente de la Chambre sino-suisse des architectes et artistes (SCAA).Lieu: Teehaus Liu\, Maienfelderstrasse 5\, Bad RagazPrix: CHF 80\,– pour les membres de Sinokultur et SCAA\, CHF 90\,– pour les non-membres
URL:https://www.sinoptic.ch/evenement/teahouse-liu-in-bad-ragaz/
CATEGORIES:Rencontre,Visite commentée
END:VEVENT
BEGIN:VEVENT
DTSTART;TZID=Europe/Zurich:20260317T181500
DTEND;TZID=Europe/Zurich:20260317T200000
DTSTAMP:20260419T191852
CREATED:20260310T045650Z
LAST-MODIFIED:20260313T000800Z
UID:41018-1773771300-1773777600@www.sinoptic.ch
SUMMARY:Chine-USA: le choc des idéologies
DESCRIPTION:Conférence de M. Paolo URIO\, professeur émérite\, Université de Genève« Il est difficile aujourd’hui de parler avec un minimum d’objectivité de la Chine et des Etats-Unis sans être accusé de prendre parti pour l’un ou l’autre à la suite d’un choix idéologique. Pour échapper à la propagande\, il s’agit d’aller au fond des choses en partant des faits : identifier l’idéologie des deux pays ainsi que leur traduction en politique étrangère. Les deux idéologies sont très différentes\, mais présentent chacune une cohérence remarquable. Aujourd’hui\, l’idéologie américaine semble persister à privilégier l’expansion et la confrontation\, suggérant la difficulté des Etats-Unis à s’adapter à la transition inéluctable vers un monde multipolaire\, alors que la Chine\, proposant un modèle alternatif de coopération et une autre vision du monde. »Lieu: salle M1170\, Uni Mail
URL:https://www.sinoptic.ch/evenement/chine-usa-le-choc-des-ideologies/
LOCATION:Genève
CATEGORIES:Conférence
END:VEVENT
BEGIN:VEVENT
DTSTART;TZID=Europe/Zurich:20260319T120000
DTEND;TZID=Europe/Zurich:20260319T140000
DTSTAMP:20260419T191852
CREATED:20260313T231647Z
LAST-MODIFIED:20260313T232439Z
UID:41052-1773921600-1773928800@www.sinoptic.ch
SUMMARY:Évolution de la perception américaine de la «menace» potentielle de la Chine entre 1970 et 1990
DESCRIPTION:Déjeuner-débat avec M. Samuel MACHEREL. Titre complet: « l’évolution de la perception américaine de la « menace » potentielle de la Chine entre 1970 et 1990\, vers une normalisation de leurs relations et une coopération militaire »Lieu: Cercle de la Terrasse\, rue Jean-Gabriel Eynard 4\, GenèvePrix: CHF 70\,– pour les membres de l’Association Genève-Asie\, du FSPI\, de l’Association Suisse-Japon; CHF 80\,– pour les non-membresInscription: info@geneveasie.ch jusqu’au mardi 17 mars 2026.
URL:https://www.sinoptic.ch/evenement/evolution-de-la-perception-americaine-de-la-menace-potentielle-de-la-chine-entre-1970-et-1990/
LOCATION:Genève
CATEGORIES:Conférence
END:VEVENT
BEGIN:VEVENT
DTSTART;TZID=Europe/Zurich:20260319T161500
DTEND;TZID=Europe/Zurich:20260319T174500
DTSTAMP:20260419T191852
CREATED:20260317T004552Z
LAST-MODIFIED:20260317T004552Z
UID:41081-1773936900-1773942300@www.sinoptic.ch
SUMMARY:The Old Man Star (老人星\, Canopus) in Astronomical\, Cosmological and Daoist Sources
DESCRIPTION:Conférence de M. Maurizio PAOLILLO\, professeur\, Dipartimento Asia\, Africa e Mediterraneo\, Università degli Studi di Napoli “L’Orientale”
URL:https://www.sinoptic.ch/evenement/the-old-man-star-%e8%80%81%e4%ba%ba%e6%98%9f-canopus-in-astronomical-cosmological-and-daoist-sources/
LOCATION:Asien-Orient-Institut – Sinologie\, Zurich
CATEGORIES:Conférence
END:VEVENT
BEGIN:VEVENT
DTSTART;TZID=Europe/Zurich:20260319T183000
DTEND;TZID=Europe/Zurich:20260319T203000
DTSTAMP:20260419T191852
CREATED:20260219T060356Z
LAST-MODIFIED:20260219T060356Z
UID:40907-1773945000-1773952200@www.sinoptic.ch
SUMMARY:Chine: une production urbaine à bout de souffle?
DESCRIPTION:Conférence de M. Thierry THEURILLAT\, géographe et professeur associé au Swiss Eurasian Institute of Management de la Haute Ecole Arc à Neuchâtel\, organisée par la Société neuchâteloise de géographie (SNG)Lieu: Salle RE 48\, Faculté des Lettres et Sciences Humaines\, Espace Tilo-Frey 1\, Neuchâtel
URL:https://www.sinoptic.ch/evenement/chine-une-production-urbaine-a-bout-de-souffle/
LOCATION:Neuchâtel
CATEGORIES:Conférence
END:VEVENT
BEGIN:VEVENT
DTSTART;TZID=Europe/Zurich:20260320T183000
DTEND;TZID=Europe/Zurich:20260320T210000
DTSTAMP:20260419T191852
CREATED:20260108T063952Z
LAST-MODIFIED:20260108T063952Z
UID:40352-1774031400-1774040400@www.sinoptic.ch
SUMMARY:Mächtig wie der Kaiser?Wie Eunuchen Chinas Schicksal bestimmten
DESCRIPTION:Conférence de KONG Hinchi\, directeur de ChinaHouse
URL:https://www.sinoptic.ch/evenement/machtig-wie-der-kaiser-wie-eunuchen-chinas-schicksal-bestimmten/
LOCATION:ChinaHouse Basel\, Hauptstrasse 120\,  \, Sissach
CATEGORIES:Conférence
END:VEVENT
BEGIN:VEVENT
DTSTART;TZID=Europe/Zurich:20260326T173000
DTEND;TZID=Europe/Zurich:20260326T193000
DTSTAMP:20260419T191852
CREATED:20260303T103002Z
LAST-MODIFIED:20260303T103002Z
UID:40976-1774546200-1774553400@www.sinoptic.ch
SUMMARY:Swiss Brands at CIIE 2006 & China-Europe CEO Summit
DESCRIPTION:Événement promotionnelLieu: ICBC Zurich Branch\, Nüschelerstrasse 1\, Zurich
URL:https://www.sinoptic.ch/evenement/swiss-brands-at-ciie-2006-china-europe-ceo-summit/
LOCATION:Zurich
CATEGORIES:Événement promotionnel
END:VEVENT
BEGIN:VEVENT
DTSTART;TZID=Europe/Zurich:20260327T101500
DTEND;TZID=Europe/Zurich:20260327T120000
DTSTAMP:20260419T191852
CREATED:20260312T232807Z
LAST-MODIFIED:20260312T232807Z
UID:41039-1774606500-1774612800@www.sinoptic.ch
SUMMARY:Les dieux chinois comme sujets
DESCRIPTION:Conférence de M. Vincent GOOSSAERT\, EPHELieu: salle 013\, Philosophes\, Université de GenèveOrganisation: Unité d’histoire et anthropologie des religions
URL:https://www.sinoptic.ch/evenement/les-dieux-chinois-comme-sujets/
CATEGORIES:Conférence
END:VEVENT
BEGIN:VEVENT
DTSTART;TZID=Europe/Zurich:20260327T161500
DTEND;TZID=Europe/Zurich:20260327T180000
DTSTAMP:20260419T191852
CREATED:20260325T083318Z
LAST-MODIFIED:20260325T083318Z
UID:41148-1774628100-1774634400@www.sinoptic.ch
SUMMARY:2026: Gegenwartsliteratur X VR China\, Taiwan\, Hongkong
DESCRIPTION:Débat entre Mmes Jessica IMBACH\, Justyna JAGUŚCIK\, Brigit KNÜSEL und Andrea RIEMENSCHNITTER
URL:https://www.sinoptic.ch/evenement/2026-gegenwartsliteratur-x-vr-china-taiwan-hongkong/
LOCATION:Asien-Orient-Institut – Sinologie\, Zurich
CATEGORIES:Débat
END:VEVENT
BEGIN:VEVENT
DTSTART;TZID=Europe/Zurich:20260327T163000
DTEND;TZID=Europe/Zurich:20260327T183000
DTSTAMP:20260419T191852
CREATED:20260323T225924Z
LAST-MODIFIED:20260323T225924Z
UID:41135-1774629000-1774636200@www.sinoptic.ch
SUMMARY:Shenzhen: eine Megacity als Chinas Labor der Zukunft
DESCRIPTION:Événement promotionnelInscription: cui.yiting@qq.com
URL:https://www.sinoptic.ch/evenement/shenzhen-eine-megacity-als-chinas-labor-der-zukunft/
LOCATION:Centre culturel chinois\, Giacomettistrasse 15\, Berne\, 3006
CATEGORIES:Événement promotionnel
END:VEVENT
BEGIN:VEVENT
DTSTART;TZID=Europe/Zurich:20260330T090000
DTEND;TZID=Europe/Zurich:20260330T180000
DTSTAMP:20260419T191852
CREATED:20260313T001357Z
LAST-MODIFIED:20260313T001357Z
UID:41042-1774861200-1774893600@www.sinoptic.ch
SUMMARY:Le genre biographique en Chine médiévale\, écritures et savoirs
DESCRIPTION:Journée d’études organisée par l’Unité d’études chinoises de l’Université de Genève\, avec la participation de M. Robert Ford CAMPANY\, Université Vanderbilt\, et Mme Béatrice L’HARIDON\, Université de GenèveLieu: salle Colladon\, rue Jean-Daniel-Colladon 2\, Genève
URL:https://www.sinoptic.ch/evenement/le-genre-biographique-en-chine-medievale-ecritures-et-savoirs/
LOCATION:Genève
CATEGORIES:Conférence
END:VEVENT
BEGIN:VEVENT
DTSTART;TZID=Europe/Zurich:20260330T161500
DTEND;TZID=Europe/Zurich:20260330T174500
DTSTAMP:20260419T191852
CREATED:20260225T153038Z
LAST-MODIFIED:20260313T001941Z
UID:40934-1774887300-1774892700@www.sinoptic.ch
SUMMARY:Wonder and the Aesthetics of Subjectivity in the Poetry of the Tang Dynasty (618-907)
DESCRIPTION:Conférence de Mme Paula VARSANO\, professeure\, UC Berkeley
URL:https://www.sinoptic.ch/evenement/40934/
LOCATION:Asien-Orient-Institut – Sinologie\, Zurich
CATEGORIES:Conférence
END:VEVENT
BEGIN:VEVENT
DTSTART;TZID=Europe/Zurich:20260331T130000
DTEND;TZID=Europe/Zurich:20260331T193000
DTSTAMP:20260419T191852
CREATED:20260213T081953Z
LAST-MODIFIED:20260224T124031Z
UID:40855-1774962000-1774985400@www.sinoptic.ch
SUMMARY:2026 Global Digital Economy Conference
DESCRIPTION:Conférence promotionnelleLieu: Palais des Nations\, avenue de la Paix 14\, Genève
URL:https://www.sinoptic.ch/evenement/2026-global-digital-economy-conference/
LOCATION:Genève
CATEGORIES:Événement promotionnel
END:VEVENT
BEGIN:VEVENT
DTSTART;TZID=Europe/Zurich:20260331T180000
DTEND;TZID=Europe/Zurich:20260331T200000
DTSTAMP:20260419T191852
CREATED:20260227T082319Z
LAST-MODIFIED:20260227T082319Z
UID:40958-1774980000-1774987200@www.sinoptic.ch
SUMMARY:Afterwork & Cocktail avec Bobst
DESCRIPTION:Rencontre avec M. Alex VOLERY\, responsable des services Eterna\, directeur régional des services APAC\, Unité commerciale Services et performance\, Bobst Mex SALieu: Bobst campus\, route de Faraz 3\, MexPrix: CHF 30\,– pour les membres de la Chambre de commerce Suisse-Chine; CHF 50\,– pour les non-membres
URL:https://www.sinoptic.ch/evenement/afterwork-cocktail-avec-bobst/
CATEGORIES:Rencontre
END:VEVENT
END:VCALENDAR